BEGIN:VCALENDAR
VERSION:2.0
PRODID:-//IP.Board Calendar 4.7.9//EN
METHOD:PUBLISH
CALSCALE:GREGORIAN
BEGIN:VTIMEZONE
TZID:Europe/London
TZURL:http://tzurl.org/zoneinfo/Europe/London
X-LIC-LOCATION:Europe/London
BEGIN:DAYLIGHT
TZOFFSETFROM:+0000
TZOFFSETTO:+0100
TZNAME:BST
DTSTART:20190331T020000Z
RRULE:FREQ=YEARLY;BYMONTH=3;BYDAY=-1SU
END:DAYLIGHT
BEGIN:STANDARD
TZOFFSETFROM:+0100
TZOFFSETTO:+0000
TZNAME:GMT
DTSTART:20191027T020000Z
RRULE:FREQ=YEARLY;BYMONTH=10;BYDAY=-1SU
END:STANDARD
END:VTIMEZONE
BEGIN:VEVENT
SUMMARY:The Good Wife [T1]
DTSTAMP:20190106T120722Z
SEQUENCE:0
UID:3864-10-18eee7358c8f6d8c4a2d65f699d399a5@grupots.net
ORGANIZER;CN="dsigual":grupots@grupots.net
DESCRIPTION:\n\n	 \n\n\n\n	\nNombre ingles: The Good Wife (La buena esp
	osa)\nNombre original: Guddo Waifu グッドワイフ\nDirector: Ayuko Tsu
	kahara\, Takeyoshi Yamamoto\nGuión: Eriko Shinozaki\nActores: \n\n	Tokiwa
	 Takako como Hasumi Kyoko\n\n	Koizumi Kotaro como Tada Masahiro\n\n	Karasa
	wa Toshiaki como Hasumi Soichiro\n\n	Mizuhara Kiko como Madoka Michiru\n\n
		Kitamura Takumi como Asahi Kotaro\n\n	Takito Kenichi como Sasaki Tatsuya\
	nGénero: Drama\, comedia\, romántica\nEpisodios: 10\nCadena: TBS\nWeb pr
	omocional: https://www.tbs.co.jp/the_good_wife2019/\n\n	 \nCarteles serie
	:\n\n\n\n	 \n\n\n\n	   \n\n\n\n	\nArgumento:\n\n	Versión japonesa de 
	la exitosa serie americana protagonizada Julianna Margulies. La esposa de 
	un exitoso fiscal tiene que volver a trabajar en un bufete de abogados\, d
	espués de 16 años\, debido a que su esposo es acusado de corrupción y t
	ener una amante.\n\n\n\n	 \n\n\n\n	Vídeo promocional\n\n\n\n	 \n\n\n
DTSTART;VALUE=DATE:20190113
END:VEVENT
BEGIN:VEVENT
SUMMARY:Hajimete Koi wo Shita Hi ni Yomu Hanashi [T1]
DTSTAMP:20190104T020533Z
SEQUENCE:0
UID:3861-10-18eee7358c8f6d8c4a2d65f699d399a5@grupots.net
ORGANIZER;CN="dsigual":grupots@grupots.net
DESCRIPTION:\n\n	 \n\n\n\n	\nNombre ingles: A Story To Read On The Day 
	You've Fell In Love (Una historia para leer el día que te enamoraste)\nNo
	mbre original: Hajimete Koi wo Shita Hi ni Yomu Ha
	nashi 初めて恋をした日に読む話\nDirector: Fukuda Ryosuke\nGui
	ón: Yoshizawa Tomoko\nActores: \n\n	Fukada Kyoko como Junko Harumi\n\n	Na
	gayama Kento como Masashi Yakumo\n\n	Yokohama Ryusei como Kyohei Yuri\n\n	
	Nakamura Tomoya como Kazuma Yamashita\nGénero: Drama\, comedia\, románti
	ca\nEpisodios: 10\nCadena: TBS\nWeb promocional: https://www.tbs.co.jp/haj
	ikoi_tbs/\n\n	 \nArgumento:\n\n	La serie sigue la vida de una mujer que t
	ras tener éxito de adolescente y ser la estrella del instituto pasa a ser
	 una mujer fracasada\, sin trabajo y amor. Su vida da un cambio cuando con
	oce a tres hombres muy diferentes entre ellos. La serie esta basado en un 
	manga y anime del mismo título. El manga original salió a la venta en 20
	16.\n\n\n\n	 \n\n\n\n	Vídeo promocional\n\n\n\n	 \n\n\n
DTSTART;VALUE=DATE:20190115
END:VEVENT
END:VCALENDAR
